Workbook
Name CL: 'C'!$B$2:$B$250
Name LN: L!$D$1:$M$1
Name Metal: 'Smelter List'!$W$3:$Z$3
Name MetalSmelter: 'Smelter Look-up'!#REF!
Name SL: Declaration!$P$3
Name SmelterID: 'Smelter Look-up'!#REF!
Name SmelterIdetifiedForMetal: 'Smelter List'!$B$5:$B$2504
Name SN: OFFSET('Smelter Look-up'!$B$4,MATCH(!$B1,'Smelter Look-up'!$A:$A,0)-4,0,COUNTIF('Smelter Look-up'!$A:$A,!$B1),1)

Sheet Revision
B2: DOCUMENT TITLE
B3: Conflict Minerals Reporting Template
B4: SHEET
B5: 1 of 8
B9: REVISION HISTORY
B10: A change in the first digit of the revision number (e.g., 1.0 to 2.0) signifies a set of major improvements have occurred which will likely include different data reporting requirements. Changes to the first or second decimal place (e.g., “2.01” to “2.02”) indicate only minor changes have been made to the template which are not expected to result in substantial changes to the data being reported. The addition of a letter (e.g., “a”, or “b”, or “c”) following the revision number indicate that only the standard smelter list has been updated from the prior version.
B12: REVISION | C12: ORIGINATOR | D12: RELEASE DATE | E12: DESCRIPTION OF FUNCTIONAL CHANGE | F12: UPDATES TO SMELTER LIST
B13: 1 | C13: Jared Connors, Intel | D13: July 19th, 2011 | E13: New Release
B14: 2 | C14: Jared Connors, Intel | D14: Aug 29th, 2012 | E14: Major update to functionality including: addition of the known smelter list, addition of declaration scope including product tab, and added and modified multiple questions and / or their responses. | F14: New.
B15: 2.01 | C15: Jared Connors, Intel | D15: Dec 21st, 2012 | E15: List of changes to the template functionality: 1. Modified Smelter List tab to prevent smelter rows from wrapping text. This was being caused by the hidden formula in column A which allows for a software vendor to easily grab the smelter IDs. 2. Changed protection settings on the Smelter List tab to allow users to delete rows. This allows users to delete rows with incorrect entries within the smelter tab. Ensured that columns could not be mistakenly deleted in the process. | F15: 1. Added “CV DS Jaya Abadi” an alias to “PT Stanindo Inti Perkasa” 2. Added “Mentok” as an alias to “PT Tambang Timah” 3. Corrected spelling of "Duoluoshan" id # 3CHN001 4. Corrected spelling of "Mitsubishi Materials Corporation" id # 1JPN039 5. Changed “Gejiu Non-ferrous” to its proper name “Geiju Non-Ferrous Metal Processing Co. Ltd.” 6. Changed “Mitsubishi Material” to its proper name “Mitsubishi Materials Corporation” 7. Changed “Niotan” to “Kemet Blue Powder” 8. Added “Nihon Material Co. LTD” as a gold refiner 9. Added “Aida Chemical Industries Co. Ltd.” as a gold refiner 10. Added “Asaka Riken Co Ltd” as a gold refiner
F16: 11. Added “Kojima Chemical” as a gold refiner 12. Added “Sabin” as a gold refiner 13. Added “United Precious Metal Refining Inc.” as a gold refiner 14. Added “Yokohama Metal Co Ltd” as a gold refiner 15. Added “CNMC (Guangxi) PGMA Co., Ltd.” as a tin refiner 16. Added “Conghua Tantalum and Niobium Smeltry” as a tantalum refiner 17. Removed “Tantalite Resources” as a refinery 18. Added “Minmetals Ganzhou Tin Co. Ltd.” as a tin refinery 19. Updated “ATI Metalworking Products” to its proper full name “ATI Tungsten Materials” 20. Updated “China Minmetals Corp.” to its proper full name “China Minmetals Nonferrous Metals Co Ltd”
F17: 21. Removed “Ganzhou Huaxing Tungsten” as a smelter 22. Removed “Ganzhou Nonferrous Metals Smelting Co Ltd.” as a smelter 23. Removed “Sichuan Metals & Materials Imp & Exp Co as a tungsten smelter 24. Added “Ganzhou Grand Sea W & Mo Group Co., Ltd.” as a tungsten smelter 25. Added “Hunan Chenzhou Mining Group Co” as a tungsten smelter 26. Added “Japan New Metals Co Ltd” as a tungsten smelter 27. Added “Zhuzhou Cemented Carbide Group Co Ltd” as a tungsten smelter
B18: 2.02 | C18: Jared Connors, Intel | D18: March 29th, 2013 | E18: 1. Added new selection to the metals dropdown lists of smelter list tab “Smelter not yet identified” 2. Moved “smelter not listed” to the bottom of each metals dropdown list 3. Fixed error in Checker sheet to eliminate display of text “one or more smelters have been added to smelter list” when rows are deleted 4. Rewrite of T&Cs 5. Adding Italian translation 6. Allow for deletion of rows in Smelter List tab 7. Removed hover over text in column C of Smelter List tab 8. Inserted additional rows for data entry on the Smelter List tab up to 2,500 rows 9. Made smelter ID numbers visible in Smelter List tab 10. Made template revision history tab visible | F18: 1. Added the following aliases to Ohio Precious Metals “OPM Metals”, “USPM”, “United States Precious Metals” 2. Added “ALMT” as tungsten smelter 3. Added “Suzhou Xingrui Noble” as gold smelter 4. Added “Shangdong Zhaojin Group” as an alias of “Shandong Zhaojin Gold & Silver Refinery Co., Ltd” 5. Added “Shandong Zhaoyuan Gold Argentine refining company limited” as an alias of “Zhongyuan Gold Smelter of Zhongjin Gold Corporation” 6. Added “SEMPSA” as an alias for “SEMPSA Joyeria Plateria SA” 7. Added “Umicore Brazil Ltd” as an alias for “Umicore Brasil Ltda” 8. Added “Pan Pacific Copper Co., LTD.” as a gold smelter 9. Added “White Solder Metalurgia” as a tin smelter 10. Added “JiuJiang JinXin Nonferrous Metals Co. Ltd.” as a tantalum smelter
E19: 11. Removed language selection from individual tabs, all controlled on Declaration tab 12. Updated template to prevent users from adding tabs to the worksheet 13. Added statement at the top of the revision history tab clarifying purpose of .0x revision updates | F19: 11. Corrected spelling of “jiujiang Tanbre” to “JiuJiang Tambre Co. Ltd.” 12. Added Torecom as a gold smelter 15. Added “PT Tinindo Internusa” as alias of “PT Tinindo Inter Nusa” 16. Added “CV Jus Tindo” as alias of “CV JusTindo” 17. Added “PT Bellitin Makmur Lestari” and “BML” as alias of “PT BilliTin Makmur Lestari” 18. Added “Liuzhou China Tin Group Co., Ltd.” as alias of “Liuzhou China Tin” 19. Added “PT Timah (Persero) TBK” and “Banka Tin” as alias of “PT Tambang Timah” 20. Added “Yun Nan Tin Co.,LTD” as alias of “Yunnan Tin Company Limited”
F20: 21. Added “GEJIU ZILI MINING&SMELTING CO.,LTD.” as alias of “Gejiu Zi-Li” 22. Added “Jiangxi Tungsten Co Ltd” as alias of “Jiangxi Tungsten Industry Group Co Ltd” 23. Added “Linwu Xianggui” as a tin smelter 24. Added "IMLI" and “Indra Eramulti Logam” as aliases of “PT Bukit Timah” 25. Added “CV Gita Pesona” as tin smelter 26. Added “PT Tommy Utama” as tin smelter 27. Added “PT Bangka Tin Industry” as tin smelter 28. Added “PT DS Jaya Abadi” as tin smelter 29. Added “PT Panca Mega” as tin smelter 30. Added “PT Seirama Tin investment” as tin smelter
F21: 31. Added “PT Karimun Mining” as tin smelter 32. Added “Cooper Santa” as tin smelter 33. Added “Daejin Indus Co. Ltd” as gold smelter 34. Added “DaeryongENC” as gold smelter 35. Added “Do Sung Corporation” as gold smelter 36. Added “Hwasung CJ Co. Ltd” as gold smelter 37. Added “Korea Metal” as gold smelter 38. Added “SAMWON METALS Corp.” as gold smelter
B22: 2.03 | C22: Akimasa Yamakawa, JEITA / John Plyler, BlackBerry | D22: July 12th, 2013 | E22: 1. Resolved Excel 2003 incompatibility with programming for multiple languages. 2. Minor corrections to row number references in the instructions. 3. Added translation on checker sheet for the Column Name “Hyperlink to Source” 4. Corrected Japanese translation of "authorized representative" and "representative" on Declaration worksheet. 5. Adjusted row spacing of misc cells to allow for different lengths of translated text and comments. 6. Removed the symbols for the metals on the standard smelter list (e.g., "Sn"). 7. Deleted text "If no for all metals, you are done with this survey." from question 1 on the Declaration worksheet. | F22: 1. Added “Fujian Jinxin Tungsten Co., Ltd.” as tungsten refiner 2. Added “Dayu Weiliang Tungsten Co., Ltd.” as tungsten refiner 3. Added “Xinhai Rendan Shaoguan Tungsten Co., Ltd.” as tungsten refiner 4. Added “Hunan Chun-Chang Nonferrous Smelting & Concentrating Co., Ltd.” as tungsten refiner 5. Added “Jiangxi Minmetals Gao'an Non-ferrous Metals Co., Ltd.” as tungsten refiner 6. Corrected the spelling of "Allydne" to "Alldyne" 7. Corrected the spelling of "Allydne Powder Technologies" to "Alldyne Powder Technologies" 8. Corrected the spelling of "Korea Metal" to "Korea Metal Co. Ltd" 9. Added "LMS Brasil S.A." as tantalum smelter 10. Added "QuantumClean" as tantalum smelter
F23: 11. Added "Taki Chemicals" as tantalum smelter 12. Added "Tantalite Resources" as tantalum smelter 13. Corrected naming inconsistency of “Ohio Precious Metals LLC.” on standard smelter list and alias table. 14. Corrected naming inconsistency of “The Refinery of Shandong Gold Mining Co., Ltd” on standard smelter list and alias table. 15. Added "Molycorp Silmet" as tantalum smelter 16. Added "King-Tan Tantalum Industry Ltd" as tantalum smelter 17. Added "CooperMetal" as an alias of "Coopersanta" 18. Corrected the spelling of "Malaysia Smelting Corp" to "Malaysia Smelting Corporation (MSC)" 19. Corrected the spelling of "Asahi Pretec Corp" to "Asahi Pretec Corporation" 20. Corrected the spelling of "United Precious Metal Refining Inc." to “United Precious Metal Refining, Inc.”
F24: 21. Added "Fenix Metals" as tin smelter 22. Changed alias “Bangka Tin” from “PT Tambang Timah” to “PT Timah” 23. Added “Ketapang” as an alias of “PT Bangka Putra Karya” 24. Corrected the Smelter ID of Cooper Santa from “2IDN063” to “2BRA063” 25. Added "Kundur" as an alias of “PT Tambang Timah” 26. Added “TT” as an alias of “PT Tambang Timah” 27. Added "CooperMetal" as an alias of "Coopersanta" 28. Corrected spelling of “CV Prima Timah Utama” to “PT Prima Timah Utama”.
B25: 2.03a | C25: John Plyler, BlackBerry | D25: July 25th, 2013 | E25: No functional change. | F25: 1. Corrected the spelling of "ALMT" to "A.L.M.T. Corp." 2. Added "A.L.M.T. Tungsten Corp", "Allied Material Corp", and "ALMT" as aliases of "A.L.M.T. Corp." 3. Corrected country of "A.L.M.T. Corp." to "Japan" and smelter ID to "4JPN020" 4. Changed alias "Wolfram" for "Wolfram Company CJSC" to "Wolfram [Russia]" 5. Added "Wolfram [Austria]" as an alias of "Wolfram Bergbau und Hütten AG" 6. Added "Kennametal Inc." as a tungsten refiner 7. Added "Kennametal" as an alias of "Kennametal Inc."
B26: 3 | C26: Akimasa Yamakawa, JEITA, and John Plyler, BlackBerry, under the direction of the CFSI Due Diligence Workgroup | D26: April 9th, 2014 | E26: Major update to synchronize the CFSI CMRT with the data fields in the newly published IPC-1755 Standard. Changes include: 1. Addition of new company information fields. 2. Two additional due diligence questions and removal of one. 3. Minor changes to question text throughout. 4. Expansion of instructions and definitions. 5. Updated translations of all modified text. | F26: Added the following gold refiners: 1. Bauer Walser AG 2. C. Hafner GmbH + Co. KG 3. China National Gold Group Corporation 4. Colt Refining 5. Daye Non-Ferrous Metals Mining Ltd. 6. Doduco 7. Eco-System Recycling Co., Ltd. 8. Gansu Seemine Material Hi-Tech Co Ltd 9. Guangdong Jinding Gold Limited 10. Hangzhou Fuchunjiang Smelting Co., Ltd.
F27: 11. Hunan Chenzhou Mining Industry Group 12. Kennecott Utah Copper LLC 13. Lingbao Jinyuan Tonghui Refinery Co. Ltd. 14. Luoyang Zijin Yinhui Metal Smelt Co Ltd 15. Metalor Technologies (Singapore) Pte. Ltd. 16. Ohura Precious Metal Industry Co., Ltd 17. Penglai Penggang Gold Industry Co Ltd 18. So Accurate Group, Inc. 19. Tongling nonferrous Metals Group Co.,Ltd 20. Umicore Precious Metals Thailand
F28: 21. YAMAMOTO PRECIOUS METAL CO., LTD. 22. Yunnan Copper Industry Co Ltd
F29: Added the following tantalum smelters: 1. Changsha South Tantalum Niobium Co Ltd 2. Guangdong Zhiyuan New Material Co., Ltd. 3. Hengyang King Xing Lifeng New Materials Co., LTD 4. Metallurgical Products India (Pvt.) Ltd. 5. Mineração Taboca S.A. 6. Shanghai Jiangxi Metals Co. Ltd 7. Yichun Jin Yang Rare Metal Co., Ltd
F30: Added the following tin smelters: 1. China Rare Metal Materials Company 2. Estanho de Rondônia S.A. 3. Magnu's Minerais Metais e Ligas LTDA 4. O.M. Manufacturing (Thailand) Co., Ltd. 5. Rui Da Hung 6. Soft Metais Ltda.
F31: Added the following tungsten refiners: 1. Ganzhou Jiangwu Ferrotungsten Co., Ltd. 2. Jiangxi Gan Bei Tungsten Co., Ltd. 3. Jiangxi Richsea New Materials Co., Ltd. 4. Jiangxi Tonggu Non-ferrous Metallurgical & Chemical Co., Ltd. 5. Jiangxi Xinsheng Tungsten Industry Co., Ltd. 6. Jiangxi Yaosheng Tungsten Co., Ltd. 7. Malipo Haiyu Tungsten Co., Ltd. 8. Xiamen Tungsten (H.C.) Co., Ltd.
F32: Removed the following as gold refiners: 1. Central Bank of the DPR of Korea 2.Codelco 3. Suzhou Xingrui Noble Removed "Gannon & Scott" as a tantalum smelter
F33: Removed the following as tin smelters: 1. CV Duta Putra Bangka 2. CV Gita Pesona 3. CV JusTindo 4. CV Makmur Jaya 5. CV Nurjanah 6. Gold Bell Group 7. PT Alam Lestari Kencana 8. PT Babel Surya Alam Lestari 9. PT Bangka Kudai Tin 10. PT Bangka Timah Utama Sejahtera
F34: 11. PT BilliTin Makmur Lestari 12. PT Fang Di MulTindo 13. PT HP Metals Indonesia 14. PT Koba Tin 15. PT Panca Mega 16. PT Seirama Tin investment 17. PT Sumber Jaya Indah 18. PT Timah Nusantara 19. PT Tommy Utama 20. PT Yinchendo Mining Industry
F35: Removed the following as tungsten refiners: 1. China Minmetals Nonferrous Metals Co Ltd 2. Ganzhou Grand Sea W & Mo Group Co Ltd
F36: Changed numerous Standard Smelter Names, including: 1. "Pan Pacific Copper Co. LTD" to "JX Nippon Mining & Metals Co., Ltd" 2. "Xstrata Canada Corporation" to "CCR Refinery – Glencore Canada Corporation" 3. "PT Refined Banka Tin" to "PT Refined Bangka Tin" 4. "ATI Tungsten Materials" to "Kennametal Huntsville" 5. "Jiangxi Rare Earth & Rare Metals Tungsten Group Corp" to "Ganzhou Non-ferrous Metals Smelting Co., Ltd." 6. "Kennametal Inc." to "Kennametal Fallon" 7. "Chaozhou Xianglu Tungsten Industry Co Ltd" to "Guangdong Xianglu Tungsten Industry Co., Ltd." Changed numerous "Alias" names of smelters and refiners.
B37: 3.01 | C37: Akimasa Yamakawa, JEITA, and John Plyler, BlackBerry, under the direction of the CFSI Due Diligence Workgroup | D37: May 30th, 2014 | E37: 1. Removed the ability to overwrite the “Declaration Scope or Class” field. Users are restricted to only use the drop-down options. 2. Addressed issue with Checker incorrectly showing “Description of Scope” as missing data when a user selects “B. Product (or List of Products)” as the Declaration Scope. 3. Programmed Checker to show missing data when response to question B is "Yes", unless a url is entered the corresponding "Comments" field. | F37: 1. Added the tin smelter "Melt Metais e Ligas S/A" 2. Added the tungsten refiner "Vietnam Youngsun Tungsten Industry Co., Ltd" 3. Corrected the name of tin smelter "Liuzhou China Tin" to "China Tin Group Co., Ltd." 4. Corrected the name of tin smelter "PT Timah" to "PT Timah (Persero), Tbk"
B38: 3.02 | C38: John Plyler, BlackBerry, under the direction of the CFSI Due Diligence Data Collection Workgroup | D38: Nov 7th, 2014 | E38: 1. Revisions to the German language translation throughout. 2. Correction of the Japanese language translation for Question 4 on the Declaration worksheet. | F38: This version incorporates numerous changes to the smelter list as reflected in the Standard Smelter List as of November 7, 2014. The latest version of the Standard Smelter List is available at: http://www.conflictfreesourcing.org.
B39: 4 | C39: CFSI Due Diligence Data Collection Workgroup | D39: Apr 30th, 2015 | E39: Replaced the Standard Smelter Names tab with the Smelter Reference List tab, displaying common alternate names for smelters as well as location information. Major update to synchronize the CFSI CMRT with the data fields in the newly revised IPC-1755 Standard. Changes include: 1. Changes to question text throughout. 2.Expansion of instructions and definitions. 3. Updated translations of all modified text. | F39: This version incorporates numerous changes to the smelter list as reflected in the Standard Smelter List as of April 17, 2015. The latest version of the Standard Smelter List is available at: http://www.conflictfreesourcing.org.
B40: 4.01 | C40: CFSI Due Diligence Data Collection Workgroup | D40: June 12th, 2015 | E40: Minor revisions to correct reported issues including those related to error checking on the "Checker" and “Smelter List” tabs. | F40: This version incorporates a few changes to the smelter list as reflected in the Standard Smelter List as of June 12, 2015. The latest version of the Standard Smelter List is available at: http://www.conflictfreesourcing.org.
B41: 4.01a | C41: CFSI Due Diligence Data Collection Workgroup | D41: August 6th, 2015 | E41: No functional change. Elemetal CID corrected to read CID001322. | F41: This version incorporates a few changes to the smelter list as reflected in the Standard Smelter List as of August 5, 2015. The latest version of the Standard Smelter List is available at: http://www.conflictfreesourcing.org.
B42: 4.01b | C42: CFSI Due Diligence Data Collection Workgroup | D42: November 16th, 2015 | E42: No functional change. | F42: This version incorporates a few changes to the smelter list as reflected in the Standard Smelter List as of November 6, 2015. The latest version of the Standard Smelter List is available at: http://www.conflictfreesourcing.org.
B43: 4.1 | C43: CFSI CMRT Team | D43: 42867 | E43: 1. Corrections to all bugs and errors 2. Enhancements which do not conflict with IPC-1755 a. Additions and clarifications in the instructions and definitions b. Smelter List Tab: Re-introduction of “smelter not yet identified” c. Smelter List Tab: Inclusion of drop down menu for smelter ID that triggers auto-population of columns B to J 3. Translation improvements and addition of Turkish language 4. Updates to the Smelter Reference List and Standard Smelter List a. Updated lists and corrections b. ASCII character set alignment | F43: This version incorporates a few changes to the smelter list as reflected in the Standard Smelter List as of March 23, 2016. The latest version of the Standard Smelter List is available at: http://www.conflictfreesourcing.org.
B44: 4.2 | C44: CFSI CMRT Team | D44: 42704 | E44: 1. Corrections to all bugs and errors 2. Enhancements which do not conflict with IPC-1755 a. Additions and clarifications in the instructions and definitions b. Update to ISO short names for countries 3. Translation improvements 4. Updates to the Smelter Reference List and Standard Smelter List | F44: This version incorporates a few changes to the smelter list as reflected in the Standard Smelter List as of October 6, 2016. The latest version of the Standard Smelter List is available at: http://www.conflictfreesourcing.org/conflict-free-smelter-program/exports/cmrt-export/.
B45: 5 | C45: CFSI CMRT Team | D45: 42867 | E45: 1. Corrections to all bugs and errors 2. Conformance to IPC-1755 in the wording of the following questions: Q. 1, Q. 2, Q. 5, A, F, I (formerly J); removal of former question G a. Additions and clarifications in the instructions and definitions b. Update to ISO short names for countries 3. Conformance to IPC-1755 use of ASCII character set for Standard Smelter Name in hidden column R on the smelter list 4. Addition of ISO Country Codes and State/Province Codes in hidden columns S and T on the smelter list 5. Renaming of "Smelter Reference List" to "Smelter Look-up" 6. Updates to translations for all modified text 7. Updates to the Smelter Look-up List and Standard Smelter List | F45: This version incorporates a few changes to the smelter list as reflected in the Standard Smelter List as of March 17, 2017. The latest version of the Standard Smelter List is available at: http://www.conflictfreesourcing.org/conflict-free-smelter-program/exports/cmrt-export/.
...

Sheet Instructions
A1: =OFFSET(L!$C$1,MATCH("Instructions"&ADDRESS(ROW(),COLUMN(),4),L!$A:$A,0)-1,SL,,) -> RMI website: (www.responsiblemineralsinitiative.org) Training and guidance, template, Responsible Minerals Assurance Process conformant smelter list.
A2: =OFFSET(L!$C$1,MATCH("Instructions"&ADDRESS(ROW(),COLUMN(),4),L!$A:$A,0)-1,SL,,) -> Introduction
A3: =OFFSET(L!$C$1,MATCH("Instructions"&ADDRESS(ROW(),COLUMN(),4),L!$A:$A,0)-1,SL,,) -> This Conflict Minerals Reporting Template (Template) is a free, standardized reporting template created by the Responsible Minerals Initiative (RMI). The Template facilitates the transfer of information through the supply chain regarding mineral country of origin and smelters and refiners being utilized and supports compliance to legislation*. The template also facilitates the identification of new smelters and refiners to potentially undergo an audit via the Responsible Minerals Assurance Process**. The CMRT was designed for downstream companies to disclose information about their supply chains up to but not including the smelter. If you are a 3TG smelter or refiner, in accordance with the RMAP protocols, we recommend you enter your own name in the smelter list tab. When filling out the form, none of the cell entries should start will "=" or "#."
A4: =OFFSET(L!$C$1,MATCH("Instructions"&ADDRESS(ROW(),COLUMN(),4),L!$A:$A,0)-1,SL,,) -> * In 2010, the U.S. Dodd-Frank Wall Street Reform and Consumer Protection Act was passed concerning “conflict minerals” originating from the Democratic Republic of the Congo (DRC) or adjoining countries. The SEC published final rules associated with the disclosure of the source of conflict minerals by U.S. publicly traded companies (see the rules at http://www.sec.gov/rules/final/2012/34-67716.pdf). The rules reference the OECD Due Diligence Guidance for Responsible Supply Chains of Minerals from Conflict-Affected and High-Risk Areas, (http://www.oecd.org/daf/inv/mne/GuidanceEdition2.pdf), which guides suppliers to establish policies, due diligence frameworks and management systems. In 2017, Regulation (EU) 2017/821 of the European Parliament and of the European Council of 17 May 2017 was passed concerning supply chain due diligence obligations for Union importers of tin, tantalum and tungsten, their ores, and gold originating from conflict-affected and high-risk areas (see regulation at https://eur-lex.europa.eu/legal-content/EN/TXT/PDF/?uri=OJ:L:2017:130:FULL&from=EN) ** See information on the Responsible Minerals Initiative (www.responsiblemineralsinitiative.org).
A6: =OFFSET(L!$C$1,MATCH("Instructions"&ADDRESS(ROW(),COLUMN(),4),L!$A:$A,0)-1,SL,,) -> Instructions for completing Company Information questions (rows 8 - 22). Provide comments in ENGLISH only
A7: =OFFSET(L!$C$1,MATCH("Instructions"&ADDRESS(ROW(),COLUMN(),4),L!$A:$A,0)-1,SL,,) -> Note: Entries with (*) are mandatory fields.
A8: =OFFSET(L!$C$1,MATCH("Instructions"&ADDRESS(ROW(),COLUMN(),4),L!$A:$A,0)-1,SL,,) -> 1. Insert your company's Legal Name. Please do not use abbreviations. In this field you have the option to add other commercial names, DBAs, etc.
A9: =OFFSET(L!$C$1,MATCH("Instructions"&ADDRESS(ROW(),COLUMN(),4),L!$A:$A,0)-1,SL,,) -> 2. Select your company's Declaration Scope. The options for scope are: A. Company-wide B. Product (or List of Products) C. User-Defined For "Company-wide", the declaration encompasses the entirety of a company's products or product substances produced by the parent company. Therefore if the user is reporting 3TG data at the company level, they will be reporting conflict minerals data on all products they manufacture. For Scope selection of Product (or List of Products), a link to the worksheet tab for Product List will be displayed. If this scope is chosen, it is mandatory to list the Responder's Product Number of the products covered under the Scope of this Declaration in Column B of the Product List worksheet. It is optional to list the Responder's Product Name in Column C of the Product List worksheet. For Scope selection of "User Defined", it is mandatory that the user describes the scope to which the 3TG disclosure is applicable. The scope of this class shall be defined in a text field by the supplier and should be easily understood by customers or the receivers of the document. As an example, companies may provide a link to clarifying information. This field is mandatory.
A10: =OFFSET(L!$C$1,MATCH("Instructions"&ADDRESS(ROW(),COLUMN(),4),L!$A:$A,0)-1,SL,,) -> 3. Insert your company’s unique identifier number or code (DUNS number, VAT number, customer-specific identifier, etc.)
A11: =OFFSET(L!$C$1,MATCH("Instructions"&ADDRESS(ROW(),COLUMN(),4),L!$A:$A,0)-1,SL,,) -> 4. Insert the source for the unique identifier number or code ("DUNS", "VAT", "Customer", etc).
A12: =OFFSET(L!$C$1,MATCH("Instructions"&ADDRESS(ROW(),COLUMN(),4),L!$A:$A,0)-1,SL,,) -> 5. Insert your full company address (street, city, state, country, postal code). This field is optional.
A13: =OFFSET(L!$C$1,MATCH("Instructions"&ADDRESS(ROW(),COLUMN(),4),L!$A:$A,0)-1,SL,,) -> 6. Insert the name of the person to contact regarding the contents of the declaration information. This field is mandatory.
... A73: =OFFSET(L!$C$1,MATCH("Instructions"&ADDRESS(ROW(),COLUMN(),4),L!$A:$A,0)-1,SL,,) -> If any part of any provision of these Terms and Conditions shall be invalid or unenforceable under applicable law, said part shall be deemed ineffective to the extent of such invalidity or unenforceability only, without in any way affecting the remaining parts of said provision or the remaining provisions of these Terms and Conditions.
A75: =OFFSET(L!$C$1,MATCH("General"&"Cpy",L!$A:$A,0)-1,SL,,) -> © 2026 Responsible Minerals Initiative. All rights reserved.
A76: Return to declaration tab
A77: Revision 6.6 April 17, 2026

Sheet Definitions
B2: =OFFSET(L!$C$1,MATCH("Definitions"&ADDRESS(ROW(),COLUMN(),4),L!$A:$A,0)-1,SL,,) -> ITEM | C2: =OFFSET(L!$C$1,MATCH("Definitions"&ADDRESS(ROW(),COLUMN(),4),L!$A:$A,0)-1,SL,,) -> DEFINITION
B3: =OFFSET(L!$C$1,MATCH("Definitions"&ADDRESS(ROW(),COLUMN(),4),L!$A:$A,0)-1,SL,,) -> 3TG | C3: =OFFSET(L!$C$1,MATCH("Definitions"&ADDRESS(ROW(),COLUMN(),4),L!$A:$A,0)-1,SL,,) -> Tantalum, tin, tungsten, gold
B4: =OFFSET(L!$C$1,MATCH("Definitions"&ADDRESS(ROW(),COLUMN(),4),L!$A:$A,0)-1,SL,,) -> Authorizer | C4: =OFFSET(L!$C$1,MATCH("Definitions"&ADDRESS(ROW(),COLUMN(),4),L!$A:$A,0)-1,SL,,) -> This field identifies the person responsible for the content of the declaration. The authorizer may be a different individual from the contact person. It is not correct to use the words ‘‘same’’ or similar identification to provide the name of the authorizer.
B5: =OFFSET(L!$C$1,MATCH("Definitions"&ADDRESS(ROW(),COLUMN(),4),L!$A:$A,0)-1,SL,,) -> Conflict-Affected and High-Risk Area (CAHRA) | C5: =OFFSET(L!$C$1,MATCH("Definitions"&ADDRESS(ROW(),COLUMN(),4),L!$A:$A,0)-1,SL,,) -> Conflict-affected and high-risk areas are areas in a state of armed conflict, fragile post-conflict areas, as well as areas witnessing weak or non-existing governance and security, such as failed states, and widespread and systematic violations of international law, including human rights abuses.
B6: =OFFSET(L!$C$1,MATCH("Definitions"&ADDRESS(ROW(),COLUMN(),4),L!$A:$A,0)-1,SL,,) -> Conflict Mineral | C6: =OFFSET(L!$C$1,MATCH("Definitions"&ADDRESS(ROW(),COLUMN(),4),L!$A:$A,0)-1,SL,,) -> As defined in 2010 United States legislation, Dodd-Frank Wall Street Reform and Consumer Protection Act, Section 1502(e)(4): CONFLICT MINERAL.—The term ‘‘conflict mineral’’ means— (A) columbite-tantalite (coltan), cassiterite, gold, wolframite, or their derivatives; or (B) any other mineral or its derivatives determined by the Secretary of State to be financing conflict in the Democratic Republic of the Congo or an adjoining country. (available at http://www.sec.gov/about/laws/wallstreetreform-cpa.pdf)
B7: =OFFSET(L!$C$1,MATCH("Definitions"&ADDRESS(ROW(),COLUMN(),4),L!$A:$A,0)-1,SL,,) -> Covered Country(ies) | C7: =OFFSET(L!$C$1,MATCH("Definitions"&ADDRESS(ROW(),COLUMN(),4),L!$A:$A,0)-1,SL,,) -> Covered Country(ies) as defined by the United States Dodd-Frank Wall Street Reform and Consumer Protection Act of 2010. These countries include the Democratic Republic of the Congo and the nine countries with which it shares an internationally recognized border: Angola, Burundi, Central African Republic, Republic of the Congo, Rwanda, South Sudan, Tanzania, Uganda, Zambia.
B8: =OFFSET(L!$C$1,MATCH("Definitions"&ADDRESS(ROW(),COLUMN(),4),L!$A:$A,0)-1,SL,,) -> Declaration Scope or Class | C8: =OFFSET(L!$C$1,MATCH("Definitions"&ADDRESS(ROW(),COLUMN(),4),L!$A:$A,0)-1,SL,,) -> For the purposes of this template, “scope” describes the applicability of the information provided by the reporting company. The scope may encompass the entirety of a company’s services and/or products, or at a company’s discretion, the template may be used to report on a specific product (or products), or, be ‘User defined’. The ‘User defined’ scope selection or class may be used to describe any subset of a company’s operation or product portfolio.
B9: =OFFSET(L!$C$1,MATCH("Definitions"&ADDRESS(ROW(),COLUMN(),4),L!$A:$A,0)-1,SL,,) -> Dodd-Frank | C9: =OFFSET(L!$C$1,MATCH("Definitions"&ADDRESS(ROW(),COLUMN(),4),L!$A:$A,0)-1,SL,,) -> 2010 United States legislation, Dodd-Frank Wall Street Reform and Consumer Protection Act, Section 1502 (“Dodd-Frank”) (http://www.sec.gov/about/laws/wallstreetreform-cpa.pdf)
B10: =OFFSET(L!$C$1,MATCH("Definitions"&ADDRESS(ROW(),COLUMN(),4),L!$A:$A,0)-1,SL,,) -> DRC | C10: =OFFSET(L!$C$1,MATCH("Definitions"&ADDRESS(ROW(),COLUMN(),4),L!$A:$A,0)-1,SL,,) -> Democratic Republic of Congo
B11: =OFFSET(L!$C$1,MATCH("Definitions"&ADDRESS(ROW(),COLUMN(),4),L!$A:$A,0)-1,SL,,) -> DRC conflict-free | C11: =OFFSET(L!$C$1,MATCH("Definitions"&ADDRESS(ROW(),COLUMN(),4),L!$A:$A,0)-1,SL,,) -> Products that do not contain minerals that directly or indirectly finance or benefit armed groups in the Democratic Republic of the Congo or an adjoining country. Source: 2010 United States legislation, Dodd-Frank Wall Street Reform and Consumer Protection Act, Section 1502 (http://www.sec.gov/about/laws/wallstreetreform-cpa.pdf)
B12: =OFFSET(L!$C$1,MATCH("Definitions"&ADDRESS(ROW(),COLUMN(),4),L!$A:$A,0)-1,SL,,) -> Gold (Au) refiner (smelter) | C12: =OFFSET(L!$C$1,MATCH("Definitions"&ADDRESS(ROW(),COLUMN(),4),L!$A:$A,0)-1,SL,,) -> A gold refiner is a metallurgical operation that produces fine gold with a concentration of 99.5% or higher from gold and gold-bearing materials with lower concentrations. Refer to the RMAP assessment standard for this metal for a complete description at: https://www.responsiblemineralsinitiative.org/minerals-due-diligence/standards/.
B13: =OFFSET(L!$C$1,MATCH("Definitions"&ADDRESS(ROW(),COLUMN(),4),L!$A:$A,0)-1,SL,,) -> Independent Third-Party Assessment Firm | C13: =OFFSET(L!$C$1,MATCH("Definitions"&ADDRESS(ROW(),COLUMN(),4),L!$A:$A,0)-1,SL,,) -> With respect to smelter assessments, an “Independent Third-Party Assessment Firm” is a private sector organization competent in evaluating the smelter or refiner’s materials traceability against the standards of the RMAP or equivalent assessment standards. To maintain neutrality and impartiality, such organization and its team members must have no conflicts of interest with the assessment participant.
... B31: =OFFSET(L!$C$1,MATCH("Definitions"&ADDRESS(ROW(),COLUMN(),4),L!$A:$A,0)-1,SL,,) -> Tungsten (W) smelter | C31: =OFFSET(L!$C$1,MATCH("Definitions"&ADDRESS(ROW(),COLUMN(),4),L!$A:$A,0)-1,SL,,) -> A company with one or more facilities that converts W-containing ores (such as wolframite and scheelite), W concentrates, or W-bearing scrap (secondary material) into tungsten containing intermediates such as Ammonium Para-Tungstate (APT), Ammonium Meta-Tungstate (AMT), ferrotungsten, and tungsten oxides for direct sales or further processed into W-containing products (such as W powder or W-carbide powder). Refer to the RMAP assessment standard for this metal for a complete description at: https://www.responsiblemineralsinitiative.org/minerals-due-diligence/standards/.
B32: =OFFSET(L!$C$1,MATCH("General"&"Cpy",L!$A:$A,0)-1,SL,,) -> © 2026 Responsible Minerals Initiative. All rights reserved.

Sheet Declaration
D2: =OFFSET(L!$C$1,MATCH("Declaration"&ADDRESS(ROW(),COLUMN(),4),L!$A:$A,0)-1,SL,,) -> Conflict Minerals Reporting Template (CMRT)
B3: Select Language Preference Here: 请选择你的语言: 사용할 언어를 선택하시오 : 表示言語をここから選択してください: Sélectionner la langue préférée ici: Selecione Preferência de idioma Aqui: Wählen sie hier die Sprache: Seleccione el lenguaje de preferencia aqui: Selezionare la lingua di preferenza qui: Burada Dil Tercihini Belirleyin: | D3: English | J3: Revision 6.6 April 17, 2026 | P3: =MATCH($D$3,LN,0) -> 1
B4: =OFFSET(L!$C$1,MATCH("Declaration"&ADDRESS(ROW(),COLUMN(),4),L!$A:$A,0)-1,SL,,) -> The purpose of this document is to collect sourcing information on tin, tantalum, tungsten and gold used in products | I4: =OFFSET(L!$C$1,MATCH("Declaration"&ADDRESS(ROW(),COLUMN(),4),L!$A:$A,0)-1,SL,,) -> Link to Terms & Conditions
A5: =LEFT(D9,1) -> A
B6: =OFFSET(L!$C$1,MATCH("Declaration"&ADDRESS(ROW(),COLUMN(),4),L!$A:$A,0)-1,SL,,) -> Mandatory fields are noted with an asterisk (*). Consult the instructions tab for guidance on how to answer each question.
B7: =OFFSET(L!$C$1,MATCH("Declaration"&ADDRESS(ROW(),COLUMN(),4),L!$A:$A,0)-1,SL,,) -> Company Information
B8: =OFFSET(L!$C$1,MATCH("Declaration"&ADDRESS(ROW(),COLUMN(),4),L!$A:$A,0)-1,SL,,) -> Company Name (*): | D8: MV-Electronics Inc
B9: =OFFSET(L!$C$1,MATCH("Declaration"&ADDRESS(ROW(),COLUMN(),4),L!$A:$A,0)-1,SL,,) -> Declaration Scope or Class (*): | D9: A. Company | P9: A. Company | Q9: B. Product (or List of Products) | R9: C. User defined [Specify in 'Description of scope']
B10: =OFFSET(L!$C$1,MATCH("Declaration"&ADDRESS(ROW(),COLUMN(),4)&LEFT($D$9,1),L!$A:$A,0)-1,SL,,) -> Description of Scope: | D10: Crystals, XOs (Clock Oscillators), VCXOs (Voltage Controlled Clock Oscillators), TCXO (Temperature Compensated Crystal Oscillators), OCXO (Oven Controlled Crystal Oscillators)
D11: =IF(D9=Q9,OFFSET(L!$C$1,MATCH("Declaration"&ADDRESS(ROW(),COLUMN(),4),L!$A:$A,0)-1,SL,,),"")
B12: =OFFSET(L!$C$1,MATCH("Declaration"&ADDRESS(ROW(),COLUMN(),4),L!$A:$A,0)-1,SL,,) -> Company Unique ID: | D12: 114759888
B13: =OFFSET(L!$C$1,MATCH("Declaration"&ADDRESS(ROW(),COLUMN(),4),L!$A:$A,0)-1,SL,,) -> Company Unique ID Authority: | D13: DUNS
B14: =OFFSET(L!$C$1,MATCH("Declaration"&ADDRESS(ROW(),COLUMN(),4),L!$A:$A,0)-1,SL,,) -> Address: | D14: 4900 Carlisle Pike, #343, Mechanicsburg, PA 17050, USA
B15: =OFFSET(L!$C$1,MATCH("Declaration"&ADDRESS(ROW(),COLUMN(),4),L!$A:$A,0)-1,SL,,) -> Contact Name (*): | D15: Shiraz Vakharia
B16: =OFFSET(L!$C$1,MATCH("Declaration"&ADDRESS(ROW(),COLUMN(),4),L!$A:$A,0)-1,SL,,) -> Email – Contact (*): | D16: ShirazVakharia@MV-Electronics.com
B17: =OFFSET(L!$C$1,MATCH("Declaration"&ADDRESS(ROW(),COLUMN(),4),L!$A:$A,0)-1,SL,,) -> Phone – Contact (*): | D17: +1(717) 691-1582
B18: =OFFSET(L!$C$1,MATCH("Declaration"&ADDRESS(ROW(),COLUMN(),4),L!$A:$A,0)-1,SL,,) -> Authorizer (*): | D18: Shiraz Vakharia
B19: =OFFSET(L!$C$1,MATCH("Declaration"&ADDRESS(ROW(),COLUMN(),4),L!$A:$A,0)-1,SL,,) -> Title - Authorizer: | D19: President
B20: =OFFSET(L!$C$1,MATCH("Declaration"&ADDRESS(ROW(),COLUMN(),4),L!$A:$A,0)-1,SL,,) -> Email - Authorizer (*): | D20: ShirazVakharia@MV-Electronics.com
B21: =OFFSET(L!$C$1,MATCH("Declaration"&ADDRESS(ROW(),COLUMN(),4),L!$A:$A,0)-1,SL,,) -> Phone - Authorizer: | D21: +1(717) 691-1582
B22: =OFFSET(L!$C$1,MATCH("Declaration"&ADDRESS(ROW(),COLUMN(),4),L!$A:$A,0)-1,SL,,) -> Effective Date (*): | D22: 46152
B24: =OFFSET(L!$C$1,MATCH("Declaration"&ADDRESS(ROW(),COLUMN(),4),L!$A:$A,0)-1,SL,,) -> Answer the following questions 1 - 8 based on the declaration scope indicated above
B25: =OFFSET(L!$C$1,MATCH("Declaration"&ADDRESS(ROW(),COLUMN(),4),L!$A:$A,0)-1,SL,,) -> 1) Is any 3TG intentionally added or used in the product(s) or in the production process? (*) | D25: =OFFSET(L!$C$1,MATCH("Declaration"&ADDRESS(ROW(),COLUMN(),4),L!$A:$A,0)-1,SL,,) -> Answer | G25: =OFFSET(L!$C$1,MATCH("Declaration"&ADDRESS(ROW(),COLUMN(),4),L!$A:$A,0)-1,SL,,) -> Comments
B26: =OFFSET(L!$C$1,MATCH("Declaration"&ADDRESS(ROW(),COLUMN(),4),L!$A:$A,0)-1,SL,,)&P26 -> Tantalum | D26: No | P26: =IF(D$26="No","","(*)")
B27: =OFFSET(L!$C$1,MATCH("Declaration"&ADDRESS(ROW(),COLUMN(),4),L!$A:$A,0)-1,SL,,)&P27 -> Tin (*) | D27: Yes | P27: =IF(D$27="No","","(*)") -> (*)
B28: =OFFSET(L!$C$1,MATCH("Declaration"&ADDRESS(ROW(),COLUMN(),4),L!$A:$A,0)-1,SL,,)&P28 -> Gold (*) | D28: Yes | P28: =IF(D$28="No","","(*)") -> (*)
B29: =OFFSET(L!$C$1,MATCH("Declaration"&ADDRESS(ROW(),COLUMN(),4),L!$A:$A,0)-1,SL,,)&P29 -> Tungsten (*) | D29: Yes | P29: =IF(D$29="No","","(*)") -> (*)
B31: =OFFSET(L!$C$1,MATCH("Declaration"&ADDRESS(ROW(),COLUMN(),4),L!$A:$A,0)-1,SL,,)&Q$37 -> 2) Does any 3TG remain in the product(s)? (*) | D31: =D25 -> Answer | G31: =G25 -> Comments | P31: =COUNTIF(D$26:D$29,"No") -> 1 | Q31: =IF(P31=4,""," (*)") -> (*)
B32: =B26 -> Tantalum | P32: =IF(D$32="No","","(*)") -> (*)
B33: =B27 -> Tin (*) | D33: Yes | P33: =IF(D$33="No","","(*)") -> (*)
B34: =B28 -> Gold (*) | D34: Yes | P34: =IF(D$34="No","","(*)") -> (*)
B35: =B29 -> Tungsten (*) | D35: Yes | P35: =IF(D$35="No","","(*)") -> (*)
B37: =OFFSET(L!$C$1,MATCH("Declaration"&ADDRESS(ROW(),COLUMN(),4),L!$A:$A,0)-1,SL,,)&Q$37 -> 3) Do any of the smelters in your supply chain source the 3TG from the covered countries? (SEC term, see definitions tab) (*) | D37: =D25 -> Answer | G37: =G25 -> Comments | P37: =COUNTIF(D$26:D$29,"No")+COUNTIF(D$32:D$35,"No") -> 1 | Q37: =IF(P37>3,""," (*)") -> (*)
B38: =OFFSET(L!$C$1,MATCH("Declaration"&ADDRESS(ROW(),COLUMN(),4),L!$A:$A,0)-1,SL,,)&P38 -> Tantalum | P38: =IF((OR(D$26="No",D$32="No")),"","(*)")
B39: =OFFSET(L!$C$1,MATCH("Declaration"&ADDRESS(ROW(),COLUMN(),4),L!$A:$A,0)-1,SL,,)&P39 -> Tin (*) | D39: No | P39: =IF((OR(D$27="No",D$33="No")),"","(*)") -> (*)
B40: =OFFSET(L!$C$1,MATCH("Declaration"&ADDRESS(ROW(),COLUMN(),4),L!$A:$A,0)-1,SL,,)&P40 -> Gold (*) | D40: No | P40: =IF((OR(D$28="No",D$34="No")),"","(*)") -> (*)
B41: =OFFSET(L!$C$1,MATCH("Declaration"&ADDRESS(ROW(),COLUMN(),4),L!$A:$A,0)-1,SL,,)&P41 -> Tungsten (*) | D41: No | P41: =IF((OR(D$29="No",D$35="No")),"","(*)") -> (*)
B43: =OFFSET(L!$C$1,MATCH("Declaration"&ADDRESS(ROW(),COLUMN(),4),L!$A:$A,0)-1,SL,,)&Q$37 -> 4) Do any of the smelters in your supply chain source the 3TG from conflict-affected and high-risk areas? (*) | D43: =D25 -> Answer | G43: =G25 -> Comments | P43: =COUNTIF(D$26:D$29,"No")+COUNTIF(D$32:D$35,"No") -> 1 | Q43: =IF(P43>3,""," (*)") -> (*)
B44: =OFFSET(L!$C$1,MATCH("Declaration"&ADDRESS(ROW(),COLUMN(),4),L!$A:$A,0)-1,SL,,)&P44 -> Tantalum | P44: =IF((OR(D$26="No",D$32="No")),"","(*)")
B45: =OFFSET(L!$C$1,MATCH("Declaration"&ADDRESS(ROW(),COLUMN(),4),L!$A:$A,0)-1,SL,,)&P45 -> Tin (*) | D45: No | P45: =IF((OR(D$27="No",D$33="No")),"","(*)") -> (*)
...

Sheet Smelter List
U1: z
B2: =OFFSET(L!$C$1,MATCH("Smelter List"&ADDRESS(ROW(),COLUMN(),4),L!$A:$A,0)-1,SL,,) -> TO BEGIN: | J2: =OFFSET(L!$C$1,MATCH("Smelter List"&ADDRESS(ROW(),COLUMN(),4),L!$A:$A,0)-1,SL,,) -> Link to "RMAP Conformant Smelter List" | AH2: Yes
B3: =OFFSET(L!$C$1,MATCH("Smelter List"&ADDRESS(ROW(),COLUMN(),4),L!$A:$A,0)-1,SL,,) -> Option A: If you know the Smelter Identification Number, input the number in Column A (columns B, C, E, F, G, I and J will auto-populate); D will grey out. Option B: If you have a Metal and Smelter Look-up name combination, complete the following steps: Step 1. Select Metal in column B Step 2. Select from dropdown in column C (wrong combination will trigger RED color) Option C: If you have a Metal and Smelter Name combination, complete the following steps: Step 1. Select Metal in column B Step 2: Select "Smelter Not Listed" in the Smelter Look-up drop down and complete columns D & E Step 3. Enter all available smelter information in columns H through Q (*) Mandatory fields are noted with an asterisk. (1) Entry required when Smelter Look-up = "Smelter not listed" NOTE: A combination of Options A, B and C may be used to complete the Smelter List. Do not alter autopopulated cells. All errors in the Smelter Look-up should be reported to RMI by contacting RMI@responsiblebusiness.org. | G3: =OFFSET(L!$C$1,MATCH("General"&"Cpy",L!$A:$A,0)-1,SL,,) -> © 2026 Responsible Minerals Initiative. All rights reserved. | Q3: Revision 6.6 April 17, 2026 | W3: Tantalum | X3: Tin | Y3: Tungsten | Z3: Gold | AH3: No
A4: =OFFSET(L!$C$1,MATCH("Smelter List"&ADDRESS(ROW(),COLUMN(),4),L!$A:$A,0)-1,SL,,) -> Smelter Identification Number Input Column | B4: =OFFSET(L!$C$1,MATCH("Smelter List"&ADDRESS(ROW(),COLUMN(),4),L!$A:$A,0)-1,SL,,) -> Metal (*) | C4: =OFFSET(L!$C$1,MATCH("Smelter List"&ADDRESS(ROW(),COLUMN(),4),L!$A:$A,0)-1,SL,,) -> Smelter Look-up (*) | D4: =OFFSET(L!$C$1,MATCH("Smelter List"&ADDRESS(ROW(),COLUMN(),4),L!$A:$A,0)-1,SL,,) -> Smelter Name (1) | E4: =OFFSET(L!$C$1,MATCH("Smelter List"&ADDRESS(ROW(),COLUMN(),4),L!$A:$A,0)-1,SL,,) -> Smelter Country (*) | F4: =OFFSET(L!$C$1,MATCH("Smelter List"&ADDRESS(ROW(),COLUMN(),4),L!$A:$A,0)-1,SL,,) -> Smelter Identification | G4: =OFFSET(L!$C$1,MATCH("Smelter List"&ADDRESS(ROW(),COLUMN(),4),L!$A:$A,0)-1,SL,,) -> Source of Smelter Identification Number | H4: =OFFSET(L!$C$1,MATCH("Smelter List"&ADDRESS(ROW(),COLUMN(),4),L!$A:$A,0)-1,SL,,) -> Smelter Street | ... Q4: =OFFSET(L!$C$1,MATCH("Smelter List"&ADDRESS(ROW(),COLUMN(),4),L!$A:$A,0)-1,SL,,) -> Comments | R4: Standard Smelter Name | S4: Country Code | T4: State / Province Code | W4: Smelter not yet identified | X4: Smelter Not Listed | AH4: Unknown
A5: CID000807 | B5: Gold | C5: Ishifuku Metal Industry Co., Ltd. | E5: JAPAN | F5: CID000807 | G5: RMI | H5: 0 | I5: Soka | J5: Saitama | R5: =IF(ISERROR($V5),"",OFFSET('Smelter Look-up'!$C$4,$V5-4,0)&"") -> Ishifuku Metal Industry Co., Ltd. | S5: =IF(B5="","",IF(ISERROR(MATCH($E5,CL,0)),"Unknown",INDIRECT("'C'!$A$"&MATCH($E5,CL,0)+1))) -> JP | T5: =IF(B5="","",IF(ISERROR(MATCH($J5,SorP!$B$1:$B$6261,0)),"",INDIRECT("'SorP'!$A$"&MATCH($S5&$J5,SorP!C:C,0)))) -> JP-11 | V5: =IF(C5="",NA(),IF(OR(C5="Smelter not listed",C5="Smelter not yet identified"),MATCH($B5&$D5,'Smelter Look-up'!$J:$J,0),MATCH($B5&$C5,'Smelter Look-up'!$J:$J,0))) -> 137 | X5: =IF(AND(C5="Smelter not listed",OR(LEN(D5)=0,LEN(E5)=0)),1,0) -> 0 | AB5: =B5&C5 -> GoldIshifuku Metal Industry Co., Ltd.
A6: CID000937 | B6: Gold | C6: JX Nippon Mining & Metals Co., Ltd. | E6: JAPAN | F6: CID000937 | G6: RMI | H6: 0 | I6: Ōita | J6: Ôita | R6: =IF(ISERROR($V6),"",OFFSET('Smelter Look-up'!$C$4,$V6-4,0)&"") -> JX Advanced Metals Corporation | S6: =IF(B6="","",IF(ISERROR(MATCH($E6,CL,0)),"Unknown",INDIRECT("'C'!$A$"&MATCH($E6,CL,0)+1))) -> JP | T6: =IF(B6="","",IF(ISERROR(MATCH($J6,SorP!$B$1:$B$6261,0)),"",INDIRECT("'SorP'!$A$"&MATCH($S6&$J6,SorP!C:C,0)))) -> JP-44 | V6: =IF(C6="",NA(),IF(OR(C6="Smelter not listed",C6="Smelter not yet identified"),MATCH($B6&$D6,'Smelter Look-up'!$J:$J,0),MATCH($B6&$C6,'Smelter Look-up'!$J:$J,0))) -> 152 | X6: =IF(AND(C6="Smelter not listed",OR(LEN(D6)=0,LEN(E6)=0)),1,0) -> 0 | AB6: =B6&C6 -> GoldJX Nippon Mining & Metals Co., Ltd.
A7: CID001875 | B7: Gold | C7: Tanaka Kikinzoku Kogyo K.K. | E7: JAPAN | F7: CID001875 | G7: RMI | H7: 0 | I7: Hiratsuka | J7: Kanagawa | R7: =IF(ISERROR($V7),"",OFFSET('Smelter Look-up'!$C$4,$V7-4,0)&"") -> Tanaka Kikinzoku Kogyo K.K. | S7: =IF(B7="","",IF(ISERROR(MATCH($E7,CL,0)),"Unknown",INDIRECT("'C'!$A$"&MATCH($E7,CL,0)+1))) -> JP | T7: =IF(B7="","",IF(ISERROR(MATCH($J7,SorP!$B$1:$B$6261,0)),"",INDIRECT("'SorP'!$A$"&MATCH($S7&$J7,SorP!C:C,0)))) -> JP-14 | V7: =IF(C7="",NA(),IF(OR(C7="Smelter not listed",C7="Smelter not yet identified"),MATCH($B7&$D7,'Smelter Look-up'!$J:$J,0),MATCH($B7&$C7,'Smelter Look-up'!$J:$J,0))) -> 303 | X7: =IF(AND(C7="Smelter not listed",OR(LEN(D7)=0,LEN(E7)=0)),1,0) -> 0 | AB7: =B7&C7 -> GoldTanaka Kikinzoku Kogyo K.K.
A8: CID001193 | B8: Gold | C8: Mitsui Mining and Smelting Co., Ltd. | E8: JAPAN | F8: CID001193 | G8: RMI | H8: 0 | I8: Takehara | J8: Hiroshima | R8: =IF(ISERROR($V8),"",OFFSET('Smelter Look-up'!$C$4,$V8-4,0)&"") -> Mitsui Mining and Smelting Co., Ltd. | S8: =IF(B8="","",IF(ISERROR(MATCH($E8,CL,0)),"Unknown",INDIRECT("'C'!$A$"&MATCH($E8,CL,0)+1))) -> JP | T8: =IF(B8="","",IF(ISERROR(MATCH($J8,SorP!$B$1:$B$6261,0)),"",INDIRECT("'SorP'!$A$"&MATCH($S8&$J8,SorP!C:C,0)))) -> JP-34 | V8: =IF(C8="",NA(),IF(OR(C8="Smelter not listed",C8="Smelter not yet identified"),MATCH($B8&$D8,'Smelter Look-up'!$J:$J,0),MATCH($B8&$C8,'Smelter Look-up'!$J:$J,0))) -> 206 | X8: =IF(AND(C8="Smelter not listed",OR(LEN(D8)=0,LEN(E8)=0)),1,0) -> 0 | AB8: =B8&C8 -> GoldMitsui Mining and Smelting Co., Ltd.
A9: CID001798 | B9: Gold | C9: Sumitomo Metal Mining Co., Ltd. | E9: JAPAN | F9: CID001798 | G9: RMI | H9: 0 | I9: Saijo | J9: Ehime | R9: =IF(ISERROR($V9),"",OFFSET('Smelter Look-up'!$C$4,$V9-4,0)&"") -> Sumitomo Metal Mining Co., Ltd. | S9: =IF(B9="","",IF(ISERROR(MATCH($E9,CL,0)),"Unknown",INDIRECT("'C'!$A$"&MATCH($E9,CL,0)+1))) -> JP | T9: =IF(B9="","",IF(ISERROR(MATCH($J9,SorP!$B$1:$B$6261,0)),"",INDIRECT("'SorP'!$A$"&MATCH($S9&$J9,SorP!C:C,0)))) -> JP-38 | V9: =IF(C9="",NA(),IF(OR(C9="Smelter not listed",C9="Smelter not yet identified"),MATCH($B9&$D9,'Smelter Look-up'!$J:$J,0),MATCH($B9&$C9,'Smelter Look-up'!$J:$J,0))) -> 290 | X9: =IF(AND(C9="Smelter not listed",OR(LEN(D9)=0,LEN(E9)=0)),1,0) -> 0 | AB9: =B9&C9 -> GoldSumitomo Metal Mining Co., Ltd.
A10: CID002082 | B10: Tungsten | C10: Xiamen Tungsten Co., Ltd. | E10: CHINA | F10: CID002082 | G10: RMI | H10: 0 | I10: Xiamen | J10: Fujian Sheng | R10: =IF(ISERROR($V10),"",OFFSET('Smelter Look-up'!$C$4,$V10-4,0)&"") -> Xiamen Tungsten Co., Ltd. | S10: =IF(B10="","",IF(ISERROR(MATCH($E10,CL,0)),"Unknown",INDIRECT("'C'!$A$"&MATCH($E10,CL,0)+1))) -> CN | T10: =IF(B10="","",IF(ISERROR(MATCH($J10,SorP!$B$1:$B$6261,0)),"",INDIRECT("'SorP'!$A$"&MATCH($S10&$J10,SorP!C:C,0)))) -> CN-FJ | V10: =IF(C10="",NA(),IF(OR(C10="Smelter not listed",C10="Smelter not yet identified"),MATCH($B10&$D10,'Smelter Look-up'!$J:$J,0),MATCH($B10&$C10,'Smelter Look-up'!$J:$J,0))) -> 650 | X10: =IF(AND(C10="Smelter not listed",OR(LEN(D10)=0,LEN(E10)=0)),1,0) -> 0 | AB10: =B10&C10 -> TungstenXiamen Tungsten Co., Ltd.
A11: CID002317 | B11: Tungsten | C11: Jiangxi Xinsheng Tungsten Industry Co., Ltd. | E11: CHINA | F11: CID002317 | G11: RMI | H11: 0 | I11: Ganzhou | J11: Jiangxi Sheng | R11: =IF(ISERROR($V11),"",OFFSET('Smelter Look-up'!$C$4,$V11-4,0)&"") -> Jiangxi Xinsheng Tungsten Industry Co., Ltd. | S11: =IF(B11="","",IF(ISERROR(MATCH($E11,CL,0)),"Unknown",INDIRECT("'C'!$A$"&MATCH($E11,CL,0)+1))) -> CN | T11: =IF(B11="","",IF(ISERROR(MATCH($J11,SorP!$B$1:$B$6261,0)),"",INDIRECT("'SorP'!$A$"&MATCH($S11&$J11,SorP!C:C,0)))) -> CN-JX | V11: =IF(C11="",NA(),IF(OR(C11="Smelter not listed",C11="Smelter not yet identified"),MATCH($B11&$D11,'Smelter Look-up'!$J:$J,0),MATCH($B11&$C11,'Smelter Look-up'!$J:$J,0))) -> 612 | X11: =IF(AND(C11="Smelter not listed",OR(LEN(D11)=0,LEN(E11)=0)),1,0) -> 0 | AB11: =B11&C11 -> TungstenJiangxi Xinsheng Tungsten Industry Co., Ltd.
A12: CID000875 | B12: Tungsten | C12: Ganzhou Huaxing Tungsten Products Co., Ltd. | E12: CHINA | F12: CID000875 | G12: RMI | H12: 0 | I12: Ganzhou | J12: Jiangxi Sheng | R12: =IF(ISERROR($V12),"",OFFSET('Smelter Look-up'!$C$4,$V12-4,0)&"") | S12: =IF(B12="","",IF(ISERROR(MATCH($E12,CL,0)),"Unknown",INDIRECT("'C'!$A$"&MATCH($E12,CL,0)+1))) -> CN | T12: =IF(B12="","",IF(ISERROR(MATCH($J12,SorP!$B$1:$B$6261,0)),"",INDIRECT("'SorP'!$A$"&MATCH($S12&$J12,SorP!C:C,0)))) -> CN-JX | V12: =IF(C12="",NA(),IF(OR(C12="Smelter not listed",C12="Smelter not yet identified"),MATCH($B12&$D12,'Smelter Look-up'!$J:$J,0),MATCH($B12&$C12,'Smelter Look-up'!$J:$J,0))) -> #N/A | X12: =IF(AND(C12="Smelter not listed",OR(LEN(D12)=0,LEN(E12)=0)),1,0) -> 0 | AB12: =B12&C12 -> TungstenGanzhou Huaxing Tungsten Products Co., Ltd.
A13: CID000258 | B13: Tungsten | C13: Chongyi Zhangyuan Tungsten Co., Ltd. | E13: CHINA | F13: CID000258 | G13: RMI | H13: 0 | I13: Ganzhou | J13: Jiangxi Sheng | R13: =IF(ISERROR($V13),"",OFFSET('Smelter Look-up'!$C$4,$V13-4,0)&"") -> Chongyi Zhangyuan Tungsten Co., Ltd. | S13: =IF(B13="","",IF(ISERROR(MATCH($E13,CL,0)),"Unknown",INDIRECT("'C'!$A$"&MATCH($E13,CL,0)+1))) -> CN | T13: =IF(B13="","",IF(ISERROR(MATCH($J13,SorP!$B$1:$B$6261,0)),"",INDIRECT("'SorP'!$A$"&MATCH($S13&$J13,SorP!C:C,0)))) -> CN-JX | V13: =IF(C13="",NA(),IF(OR(C13="Smelter not listed",C13="Smelter not yet identified"),MATCH($B13&$D13,'Smelter Look-up'!$J:$J,0),MATCH($B13&$C13,'Smelter Look-up'!$J:$J,0))) -> 588 | X13: =IF(AND(C13="Smelter not listed",OR(LEN(D13)=0,LEN(E13)=0)),1,0) -> 0 | AB13: =B13&C13 -> TungstenChongyi Zhangyuan Tungsten Co., Ltd.
A14: CID000875 | B14: Tungsten | C14: Ganzhou Huaxing Tungsten Products Co., Ltd. | E14: CHINA | F14: CID000875 | G14: RMI | H14: 0 | I14: Ganzhou | J14: Jiangxi Sheng | R14: =IF(ISERROR($V14),"",OFFSET('Smelter Look-up'!$C$4,$V14-4,0)&"") | S14: =IF(B14="","",IF(ISERROR(MATCH($E14,CL,0)),"Unknown",INDIRECT("'C'!$A$"&MATCH($E14,CL,0)+1))) -> CN | T14: =IF(B14="","",IF(ISERROR(MATCH($J14,SorP!$B$1:$B$6261,0)),"",INDIRECT("'SorP'!$A$"&MATCH($S14&$J14,SorP!C:C,0)))) -> CN-JX | V14: =IF(C14="",NA(),IF(OR(C14="Smelter not listed",C14="Smelter not yet identified"),MATCH($B14&$D14,'Smelter Look-up'!$J:$J,0),MATCH($B14&$C14,'Smelter Look-up'!$J:$J,0))) -> #N/A | X14: =IF(AND(C14="Smelter not listed",OR(LEN(D14)=0,LEN(E14)=0)),1,0) -> 0 | AB14: =B14&C14 -> TungstenGanzhou Huaxing Tungsten Products Co., Ltd.
A15: CID001105 | B15: Tin | C15: Malaysia Smelting Corporation (MSC) | E15: MALAYSIA | F15: CID001105 | G15: RMI | H15: 0 | I15: Butterworth | J15: Pulau Pinang | R15: =IF(ISERROR($V15),"",OFFSET('Smelter Look-up'!$C$4,$V15-4,0)&"") | S15: =IF(B15="","",IF(ISERROR(MATCH($E15,CL,0)),"Unknown",INDIRECT("'C'!$A$"&MATCH($E15,CL,0)+1))) -> MY | T15: =IF(B15="","",IF(ISERROR(MATCH($J15,SorP!$B$1:$B$6261,0)),"",INDIRECT("'SorP'!$A$"&MATCH($S15&$J15,SorP!C:C,0)))) -> MY-07 | V15: =IF(C15="",NA(),IF(OR(C15="Smelter not listed",C15="Smelter not yet identified"),MATCH($B15&$D15,'Smelter Look-up'!$J:$J,0),MATCH($B15&$C15,'Smelter Look-up'!$J:$J,0))) -> #N/A | X15: =IF(AND(C15="Smelter not listed",OR(LEN(D15)=0,LEN(E15)=0)),1,0) -> 0 | AB15: =B15&C15 -> TinMalaysia Smelting Corporation (MSC)
A16: CID000082 | B16: Gold | C16: Asahi Pretec Corp. | E16: JAPAN | F16: CID000082 | G16: RMI | H16: 0 | I16: Kobe | J16: Hyogo | R16: =IF(ISERROR($V16),"",OFFSET('Smelter Look-up'!$C$4,$V16-4,0)&"") -> ASAHI METALFINE, Inc. | S16: =IF(B16="","",IF(ISERROR(MATCH($E16,CL,0)),"Unknown",INDIRECT("'C'!$A$"&MATCH($E16,CL,0)+1))) -> JP | T16: =IF(B16="","",IF(ISERROR(MATCH($J16,SorP!$B$1:$B$6261,0)),"",INDIRECT("'SorP'!$A$"&MATCH($S16&$J16,SorP!C:C,0)))) -> JP-28 | V16: =IF(C16="",NA(),IF(OR(C16="Smelter not listed",C16="Smelter not yet identified"),MATCH($B16&$D16,'Smelter Look-up'!$J:$J,0),MATCH($B16&$C16,'Smelter Look-up'!$J:$J,0))) -> 33 | X16: =IF(AND(C16="Smelter not listed",OR(LEN(D16)=0,LEN(E16)=0)),1,0) -> 0 | AB16: =B16&C16 -> GoldAsahi Pretec Corp.
... A37: CID001889 | B37: Tungsten | C37: Tejing (Vietnam) Tungsten Co., Ltd. | E37: VIET NAM | F37: CID001889 | G37: RMI | H37: 0 | I37: Halong City | J37: Tây Ninh | R37: =IF(ISERROR($V37),"",OFFSET('Smelter Look-up'!$C$4,$V37-4,0)&"") | S37: =IF(B37="","",IF(ISERROR(MATCH($E37,CL,0)),"Unknown",INDIRECT("'C'!$A$"&MATCH($E37,CL,0)+1))) -> VN | T37: =IF(B37="","",IF(ISERROR(MATCH($J37,SorP!$B$1:$B$6261,0)),"",INDIRECT("'SorP'!$A$"&MATCH($S37&$J37,SorP!C:C,0)))) -> VN-37 | V37: =IF(C37="",NA(),IF(OR(C37="Smelter not listed",C37="Smelter not yet identified"),MATCH($B37&$D37,'Smelter Look-up'!$J:$J,0),MATCH($B37&$C37,'Smelter Look-up'!$J:$J,0))) -> #N/A | X37: =IF(AND(C37="Smelter not listed",OR(LEN(D37)=0,LEN(E37)=0)),1,0) -> 0 | AB37: =B37&C37 -> TungstenTejing (Vietnam) Tungsten Co., Ltd.
B38: =IF(LEN(A38)=0,"",INDEX('Smelter Look-up'!$A:$A,MATCH($A38,'Smelter Look-up'!$E:$E,0))) | C38: =IF(LEN(A38)=0,"",INDEX('Smelter Look-up'!$C:$C,MATCH($A38,'Smelter Look-up'!$E:$E,0))) | E38: =IF(ISERROR($V38),"",OFFSET('Smelter Look-up'!$D$4,$V38-4,0)&"") | F38: =IF(ISERROR($V38),"",OFFSET('Smelter Look-up'!$E$4,$V38-4,0)) | G38: =IF(C38=$X$4,IF(ISERROR($V38),"Enter smelter details","RMI"),IF(ISERROR($V38),"",OFFSET('Smelter Look-up'!$F$4,$V38-4,0))) | H38: =IF(ISERROR($V38),"",OFFSET('Smelter Look-up'!$G$4,$V38-4,0)) | I38: =IF(ISERROR($V38),"",OFFSET('Smelter Look-up'!$H$4,$V38-4,0)) | J38: =IF(ISERROR($V38),"",OFFSET('Smelter Look-up'!$I$4,$V38-4,0)) | R38: =IF(ISERROR($V38),"",OFFSET('Smelter Look-up'!$C$4,$V38-4,0)&"") | S38: =IF(B38="","",IF(ISERROR(MATCH($E38,CL,0)),"Unknown",INDIRECT("'C'!$A$"&MATCH($E38,CL,0)+1))) | T38: =IF(B38="","",IF(ISERROR(MATCH($J38,SorP!$B$1:$B$6261,0)),"",INDIRECT("'SorP'!$A$"&MATCH($S38&$J38,SorP!C:C,0)))) | V38: =IF(C38="",NA(),IF(OR(C38="Smelter not listed",C38="Smelter not yet identified"),MATCH($B38&$D38,'Smelter Look-up'!$J:$J,0),MATCH($B38&$C38,'Smelter Look-up'!$J:$J,0))) -> #N/A | X38: =IF(AND(C38="Smelter not listed",OR(LEN(D38)=0,LEN(E38)=0)),1,0) -> 0 | AB38: =B38&C38
B39: =IF(LEN(A39)=0,"",INDEX('Smelter Look-up'!$A:$A,MATCH($A39,'Smelter Look-up'!$E:$E,0))) | C39: =IF(LEN(A39)=0,"",INDEX('Smelter Look-up'!$C:$C,MATCH($A39,'Smelter Look-up'!$E:$E,0))) | E39: =IF(ISERROR($V39),"",OFFSET('Smelter Look-up'!$D$4,$V39-4,0)&"") | F39: =IF(ISERROR($V39),"",OFFSET('Smelter Look-up'!$E$4,$V39-4,0)) | G39: =IF(C39=$X$4,IF(ISERROR($V39),"Enter smelter details","RMI"),IF(ISERROR($V39),"",OFFSET('Smelter Look-up'!$F$4,$V39-4,0))) | H39: =IF(ISERROR($V39),"",OFFSET('Smelter Look-up'!$G$4,$V39-4,0)) | I39: =IF(ISERROR($V39),"",OFFSET('Smelter Look-up'!$H$4,$V39-4,0)) | J39: =IF(ISERROR($V39),"",OFFSET('Smelter Look-up'!$I$4,$V39-4,0)) | R39: =IF(ISERROR($V39),"",OFFSET('Smelter Look-up'!$C$4,$V39-4,0)&"") | S39: =IF(B39="","",IF(ISERROR(MATCH($E39,CL,0)),"Unknown",INDIRECT("'C'!$A$"&MATCH($E39,CL,0)+1))) | T39: =IF(B39="","",IF(ISERROR(MATCH($J39,SorP!$B$1:$B$6261,0)),"",INDIRECT("'SorP'!$A$"&MATCH($S39&$J39,SorP!C:C,0)))) | V39: =IF(C39="",NA(),IF(OR(C39="Smelter not listed",C39="Smelter not yet identified"),MATCH($B39&$D39,'Smelter Look-up'!$J:$J,0),MATCH($B39&$C39,'Smelter Look-up'!$J:$J,0))) -> #N/A | X39: =IF(AND(C39="Smelter not listed",OR(LEN(D39)=0,LEN(E39)=0)),1,0) -> 0 | AB39: =B39&C39
B40: =IF(LEN(A40)=0,"",INDEX('Smelter Look-up'!$A:$A,MATCH($A40,'Smelter Look-up'!$E:$E,0))) | C40: =IF(LEN(A40)=0,"",INDEX('Smelter Look-up'!$C:$C,MATCH($A40,'Smelter Look-up'!$E:$E,0))) | E40: =IF(ISERROR($V40),"",OFFSET('Smelter Look-up'!$D$4,$V40-4,0)&"") | F40: =IF(ISERROR($V40),"",OFFSET('Smelter Look-up'!$E$4,$V40-4,0)) | G40: =IF(C40=$X$4,IF(ISERROR($V40),"Enter smelter details","RMI"),IF(ISERROR($V40),"",OFFSET('Smelter Look-up'!$F$4,$V40-4,0))) | H40: =IF(ISERROR($V40),"",OFFSET('Smelter Look-up'!$G$4,$V40-4,0)) | I40: =IF(ISERROR($V40),"",OFFSET('Smelter Look-up'!$H$4,$V40-4,0)) | J40: =IF(ISERROR($V40),"",OFFSET('Smelter Look-up'!$I$4,$V40-4,0)) | R40: =IF(ISERROR($V40),"",OFFSET('Smelter Look-up'!$C$4,$V40-4,0)&"") | S40: =IF(B40="","",IF(ISERROR(MATCH($E40,CL,0)),"Unknown",INDIRECT("'C'!$A$"&MATCH($E40,CL,0)+1))) | T40: =IF(B40="","",IF(ISERROR(MATCH($J40,SorP!$B$1:$B$6261,0)),"",INDIRECT("'SorP'!$A$"&MATCH($S40&$J40,SorP!C:C,0)))) | V40: =IF(C40="",NA(),IF(OR(C40="Smelter not listed",C40="Smelter not yet identified"),MATCH($B40&$D40,'Smelter Look-up'!$J:$J,0),MATCH($B40&$C40,'Smelter Look-up'!$J:$J,0))) -> #N/A | X40: =IF(AND(C40="Smelter not listed",OR(LEN(D40)=0,LEN(E40)=0)),1,0) -> 0 | AB40: =B40&C40
B41: =IF(LEN(A41)=0,"",INDEX('Smelter Look-up'!$A:$A,MATCH($A41,'Smelter Look-up'!$E:$E,0))) | C41: =IF(LEN(A41)=0,"",INDEX('Smelter Look-up'!$C:$C,MATCH($A41,'Smelter Look-up'!$E:$E,0))) | E41: =IF(ISERROR($V41),"",OFFSET('Smelter Look-up'!$D$4,$V41-4,0)&"") | F41: =IF(ISERROR($V41),"",OFFSET('Smelter Look-up'!$E$4,$V41-4,0)) | G41: =IF(C41=$X$4,IF(ISERROR($V41),"Enter smelter details","RMI"),IF(ISERROR($V41),"",OFFSET('Smelter Look-up'!$F$4,$V41-4,0))) | H41: =IF(ISERROR($V41),"",OFFSET('Smelter Look-up'!$G$4,$V41-4,0)) | I41: =IF(ISERROR($V41),"",OFFSET('Smelter Look-up'!$H$4,$V41-4,0)) | J41: =IF(ISERROR($V41),"",OFFSET('Smelter Look-up'!$I$4,$V41-4,0)) | R41: =IF(ISERROR($V41),"",OFFSET('Smelter Look-up'!$C$4,$V41-4,0)&"") | S41: =IF(B41="","",IF(ISERROR(MATCH($E41,CL,0)),"Unknown",INDIRECT("'C'!$A$"&MATCH($E41,CL,0)+1))) | T41: =IF(B41="","",IF(ISERROR(MATCH($J41,SorP!$B$1:$B$6261,0)),"",INDIRECT("'SorP'!$A$"&MATCH($S41&$J41,SorP!C:C,0)))) | V41: =IF(C41="",NA(),IF(OR(C41="Smelter not listed",C41="Smelter not yet identified"),MATCH($B41&$D41,'Smelter Look-up'!$J:$J,0),MATCH($B41&$C41,'Smelter Look-up'!$J:$J,0))) -> #N/A | X41: =IF(AND(C41="Smelter not listed",OR(LEN(D41)=0,LEN(E41)=0)),1,0) -> 0 | AB41: =B41&C41
B42: =IF(LEN(A42)=0,"",INDEX('Smelter Look-up'!$A:$A,MATCH($A42,'Smelter Look-up'!$E:$E,0))) | C42: =IF(LEN(A42)=0,"",INDEX('Smelter Look-up'!$C:$C,MATCH($A42,'Smelter Look-up'!$E:$E,0))) | E42: =IF(ISERROR($V42),"",OFFSET('Smelter Look-up'!$D$4,$V42-4,0)&"") | F42: =IF(ISERROR($V42),"",OFFSET('Smelter Look-up'!$E$4,$V42-4,0)) | G42: =IF(C42=$X$4,IF(ISERROR($V42),"Enter smelter details","RMI"),IF(ISERROR($V42),"",OFFSET('Smelter Look-up'!$F$4,$V42-4,0))) | H42: =IF(ISERROR($V42),"",OFFSET('Smelter Look-up'!$G$4,$V42-4,0)) | I42: =IF(ISERROR($V42),"",OFFSET('Smelter Look-up'!$H$4,$V42-4,0)) | J42: =IF(ISERROR($V42),"",OFFSET('Smelter Look-up'!$I$4,$V42-4,0)) | R42: =IF(ISERROR($V42),"",OFFSET('Smelter Look-up'!$C$4,$V42-4,0)&"") | S42: =IF(B42="","",IF(ISERROR(MATCH($E42,CL,0)),"Unknown",INDIRECT("'C'!$A$"&MATCH($E42,CL,0)+1))) | T42: =IF(B42="","",IF(ISERROR(MATCH($J42,SorP!$B$1:$B$6261,0)),"",INDIRECT("'SorP'!$A$"&MATCH($S42&$J42,SorP!C:C,0)))) | V42: =IF(C42="",NA(),IF(OR(C42="Smelter not listed",C42="Smelter not yet identified"),MATCH($B42&$D42,'Smelter Look-up'!$J:$J,0),MATCH($B42&$C42,'Smelter Look-up'!$J:$J,0))) -> #N/A | X42: =IF(AND(C42="Smelter not listed",OR(LEN(D42)=0,LEN(E42)=0)),1,0) -> 0 | AB42: =B42&C42
B43: =IF(LEN(A43)=0,"",INDEX('Smelter Look-up'!$A:$A,MATCH($A43,'Smelter Look-up'!$E:$E,0))) | C43: =IF(LEN(A43)=0,"",INDEX('Smelter Look-up'!$C:$C,MATCH($A43,'Smelter Look-up'!$E:$E,0))) | E43: =IF(ISERROR($V43),"",OFFSET('Smelter Look-up'!$D$4,$V43-4,0)&"") | F43: =IF(ISERROR($V43),"",OFFSET('Smelter Look-up'!$E$4,$V43-4,0)) | G43: =IF(C43=$X$4,IF(ISERROR($V43),"Enter smelter details","RMI"),IF(ISERROR($V43),"",OFFSET('Smelter Look-up'!$F$4,$V43-4,0))) | H43: =IF(ISERROR($V43),"",OFFSET('Smelter Look-up'!$G$4,$V43-4,0)) | I43: =IF(ISERROR($V43),"",OFFSET('Smelter Look-up'!$H$4,$V43-4,0)) | J43: =IF(ISERROR($V43),"",OFFSET('Smelter Look-up'!$I$4,$V43-4,0)) | R43: =IF(ISERROR($V43),"",OFFSET('Smelter Look-up'!$C$4,$V43-4,0)&"") | S43: =IF(B43="","",IF(ISERROR(MATCH($E43,CL,0)),"Unknown",INDIRECT("'C'!$A$"&MATCH($E43,CL,0)+1))) | T43: =IF(B43="","",IF(ISERROR(MATCH($J43,SorP!$B$1:$B$6261,0)),"",INDIRECT("'SorP'!$A$"&MATCH($S43&$J43,SorP!C:C,0)))) | V43: =IF(C43="",NA(),IF(OR(C43="Smelter not listed",C43="Smelter not yet identified"),MATCH($B43&$D43,'Smelter Look-up'!$J:$J,0),MATCH($B43&$C43,'Smelter Look-up'!$J:$J,0))) -> #N/A | X43: =IF(AND(C43="Smelter not listed",OR(LEN(D43)=0,LEN(E43)=0)),1,0) -> 0 | AB43: =B43&C43
